BEGIN:VCALENDAR
VERSION:2.0
PRODID:-//Yayasan Al-Fachriyah - ECPv5.16.4//NONSGML v1.0//EN
CALSCALE:GREGORIAN
METHOD:PUBLISH
X-WR-CALNAME:Yayasan Al-Fachriyah
X-ORIGINAL-URL:https://www.alfachriyah.org
X-WR-CALDESC:Events for Yayasan Al-Fachriyah
BEGIN:VTIMEZONE
TZID:Asia/Krasnoyarsk
BEGIN:STANDARD
TZOFFSETFROM:+0800
TZOFFSETTO:+0700
TZNAME:+07
DTSTART:20141025T180000
END:STANDARD
END:VTIMEZONE
BEGIN:VEVENT
DTSTART;TZID=Asia/Krasnoyarsk:20140713T170000
DTEND;TZID=Asia/Krasnoyarsk:20140713T220000
DTSTAMP:20260421T211812
CREATED:20140625T225340Z
LAST-MODIFIED:20140705T031743Z
UID:942-1405270800-1405288800@www.alfachriyah.org
SUMMARY:Buka bersama\, Tarawih & Khotm Qur'an di Al Fachriyah
DESCRIPTION:Acara Buka Puasa bersama serta Khatam Al qur’an dalam Solat Taraweh di Yayasan  Al Fachriyah Alm Habib Novel bin Salim bin Jindan – Ciledug
URL:https://www.alfachriyah.org/event/942/
LOCATION:Yayasan Al Fachriyah\, Jl. Prof. Dr. Hamka Kp. Gaga Masjid RT. 004/01 No.1 Larangan Selatan Kec. Larangan \, Tangerang\, Banten\, 15154\, Indonesia
CATEGORIES:Tarawih Keliling
ATTACH;FMTTYPE=image/jpeg:https://www.alfachriyah.org/wp-content/uploads/2014/06/sujud-di-masjid-nabawi.jpg
END:VEVENT
END:VCALENDAR