BEGIN:VCALENDAR
VERSION:2.0
PRODID:-//Yayasan Al-Fachriyah - ECPv5.16.4//NONSGML v1.0//EN
CALSCALE:GREGORIAN
METHOD:PUBLISH
X-WR-CALNAME:Yayasan Al-Fachriyah
X-ORIGINAL-URL:https://www.alfachriyah.org
X-WR-CALDESC:Events for Yayasan Al-Fachriyah
BEGIN:VTIMEZONE
TZID:Asia/Krasnoyarsk
BEGIN:STANDARD
TZOFFSETFROM:+0700
TZOFFSETTO:+0700
TZNAME:+07
DTSTART:20150101T000000
END:STANDARD
END:VTIMEZONE
BEGIN:VEVENT
DTSTART;TZID=Asia/Krasnoyarsk:20150314T103000
DTEND;TZID=Asia/Krasnoyarsk:20150314T170000
DTSTAMP:20260422T025014
CREATED:20150311T082411Z
LAST-MODIFIED:20150311T082411Z
UID:4091-1426329000-1426352400@www.alfachriyah.org
SUMMARY:Daurah Fiqh Madzhab Al Imam Asy Syafi’i
DESCRIPTION:Acara Daurah kajian Fiqh Madzhab Al Imam Asy Syafi’i dengan tema: “PEMBAHSAN THOHARAH DAN WUDHU” Oleh Al Habib Ahmad bin Novel bin jindan – Untuk Umum Laki-laki & Perempuan
URL:https://www.alfachriyah.org/event/daurah-fiqh-madzhab-al-imam-asy-syafii/
LOCATION:Qubbah Al Habib Abdurahman Al Habsyi Cikini\, Cikini\, Jakarta Pusat\, DKI Jakarta\, Indonesia
END:VEVENT
END:VCALENDAR