BEGIN:VCALENDAR
VERSION:2.0
PRODID:-//Yayasan Al-Fachriyah - ECPv5.16.4//NONSGML v1.0//EN
CALSCALE:GREGORIAN
METHOD:PUBLISH
X-WR-CALNAME:Yayasan Al-Fachriyah
X-ORIGINAL-URL:https://www.alfachriyah.org
X-WR-CALDESC:Events for Yayasan Al-Fachriyah
BEGIN:VTIMEZONE
TZID:Asia/Krasnoyarsk
BEGIN:STANDARD
TZOFFSETFROM:+0800
TZOFFSETTO:+0700
TZNAME:+07
DTSTART:20141025T180000
END:STANDARD
END:VTIMEZONE
BEGIN:VEVENT
DTSTART;TZID=Asia/Krasnoyarsk:20140705T210000
DTEND;TZID=Asia/Krasnoyarsk:20140705T230000
DTSTAMP:20260421T195119
CREATED:20140702T012330Z
LAST-MODIFIED:20140702T012330Z
UID:1234-1404594000-1404601200@www.alfachriyah.org
SUMMARY:Dauroh Fiqih Zakat Fitrah di Al Fachriyah
DESCRIPTION:Dauroh fiqih zakat fitrah Narasumber Habib Ahmad bin Novel bin Jindan
URL:https://www.alfachriyah.org/event/dauroh-fiqih-zakat-fitrah-di-al-fachriyah/
LOCATION:Yayasan Al Fachriyah\, Jl. Prof. Dr. Hamka Kp. Gaga Masjid RT. 004/01 No.1 Larangan Selatan Kec. Larangan \, Tangerang\, Banten\, 15154\, Indonesia
CATEGORIES:Acara Tahunan Al Fachriyah
ATTACH;FMTTYPE=image/jpeg:https://www.alfachriyah.org/wp-content/uploads/2014/07/IMG_20140701_224503.jpg
END:VEVENT
END:VCALENDAR