BEGIN:VCALENDAR
VERSION:2.0
PRODID:-//Yayasan Al-Fachriyah - ECPv5.16.4//NONSGML v1.0//EN
CALSCALE:GREGORIAN
METHOD:PUBLISH
X-WR-CALNAME:Yayasan Al-Fachriyah
X-ORIGINAL-URL:https://www.alfachriyah.org
X-WR-CALDESC:Events for Yayasan Al-Fachriyah
BEGIN:VTIMEZONE
TZID:Asia/Krasnoyarsk
BEGIN:STANDARD
TZOFFSETFROM:+0700
TZOFFSETTO:+0700
TZNAME:+07
DTSTART:20150101T000000
END:STANDARD
END:VTIMEZONE
BEGIN:VEVENT
DTSTART;TZID=Asia/Krasnoyarsk:20150114T090000
DTEND;TZID=Asia/Krasnoyarsk:20150114T110000
DTSTAMP:20260422T001404
CREATED:20141219T014517Z
LAST-MODIFIED:20141219T014517Z
UID:2857-1421226000-1421233200@www.alfachriyah.org
SUMMARY:Haul Al Habib Abdullah bin Husain Al Attas Kramat Empang
DESCRIPTION:Haul Al Habib Abdullah bin Husain Al Attas Kramat Empang Bogor
URL:https://www.alfachriyah.org/event/haul-al-habib-abdullah-bin-husain-al-attas-kramat-empang/
LOCATION:Empang Bogor\, Jalan Lolongok Kelurahan Empang\, Kecamatan Bogor Selatan\, Bogor\, Indonesia
CATEGORIES:Maulid Agung Tahunan
END:VEVENT
END:VCALENDAR