BEGIN:VCALENDAR
VERSION:2.0
PRODID:-//Yayasan Al-Fachriyah - ECPv5.16.4//NONSGML v1.0//EN
CALSCALE:GREGORIAN
METHOD:PUBLISH
X-WR-CALNAME:Yayasan Al-Fachriyah
X-ORIGINAL-URL:https://www.alfachriyah.org
X-WR-CALDESC:Events for Yayasan Al-Fachriyah
BEGIN:VTIMEZONE
TZID:Asia/Krasnoyarsk
BEGIN:STANDARD
TZOFFSETFROM:+0800
TZOFFSETTO:+0700
TZNAME:+07
DTSTART:20141025T180000
END:STANDARD
END:VTIMEZONE
BEGIN:VEVENT
DTSTART;TZID=Asia/Krasnoyarsk:20140726T132000
DTEND;TZID=Asia/Krasnoyarsk:20140726T150000
DTSTAMP:20260421T194753
CREATED:20140712T202507Z
LAST-MODIFIED:20140712T202507Z
UID:1533-1406380800-1406386800@www.alfachriyah.org
SUMMARY:Khotm Al Qur'an dalam Witir
DESCRIPTION:Pengkhataman Al Quran dalam Solat witir berjamaah pada malam ke 29 ramadhan jam 01.30-03.00 (live audio streaming)
URL:https://www.alfachriyah.org/event/khotm-al-quran-dalam-witir/
LOCATION:Yayasan Al Fachriyah\, Jl. Prof. Dr. Hamka Kp. Gaga Masjid RT. 004/01 No.1 Larangan Selatan Kec. Larangan \, Tangerang\, Banten\, 15154\, Indonesia
CATEGORIES:Acara Tahunan Al Fachriyah
ATTACH;FMTTYPE=image/jpeg:https://www.alfachriyah.org/wp-content/uploads/2014/06/pesantren-02.jpg
END:VEVENT
END:VCALENDAR