BEGIN:VCALENDAR
VERSION:2.0
PRODID:-//Yayasan Al-Fachriyah - ECPv5.16.4//NONSGML v1.0//EN
CALSCALE:GREGORIAN
METHOD:PUBLISH
X-WR-CALNAME:Yayasan Al-Fachriyah
X-ORIGINAL-URL:https://www.alfachriyah.org
X-WR-CALDESC:Events for Yayasan Al-Fachriyah
BEGIN:VTIMEZONE
TZID:Asia/Krasnoyarsk
BEGIN:STANDARD
TZOFFSETFROM:+0800
TZOFFSETTO:+0700
TZNAME:+07
DTSTART:20141025T180000
END:STANDARD
END:VTIMEZONE
BEGIN:VEVENT
DTSTART;TZID=Asia/Krasnoyarsk:20140921T080000
DTEND;TZID=Asia/Krasnoyarsk:20140921T100000
DTSTAMP:20260422T122534
CREATED:20140920T172123Z
LAST-MODIFIED:20140920T172123Z
UID:2075-1411286400-1411293600@www.alfachriyah.org
SUMMARY:Majelis Taklim Habib Ali Al Habsyi Kwitang
DESCRIPTION:Kajian Kitab AnNasoih Diniyah oleh para Habaib dan Alim Ulama Acara Untuk Umum Laki-laki dan Perempuan mulai jam 08.00 s/d 10.00 WIB
URL:https://www.alfachriyah.org/event/majelis-taklim-habib-ali-al-habsyi-kwitang/
LOCATION:Kwitang\, Jalan Kembang 4 Kwitang Jakarta\, Jakarta Pusat\, DKI Jakarta\, 10420\, Indonesia
CATEGORIES:Pengajian Rutin
END:VEVENT
END:VCALENDAR