BEGIN:VCALENDAR
VERSION:2.0
PRODID:-//Yayasan Al-Fachriyah - ECPv5.16.4//NONSGML v1.0//EN
CALSCALE:GREGORIAN
METHOD:PUBLISH
X-WR-CALNAME:Yayasan Al-Fachriyah
X-ORIGINAL-URL:https://www.alfachriyah.org
X-WR-CALDESC:Events for Yayasan Al-Fachriyah
BEGIN:VTIMEZONE
TZID:Asia/Krasnoyarsk
BEGIN:STANDARD
TZOFFSETFROM:+0700
TZOFFSETTO:+0700
TZNAME:+07
DTSTART:20150101T000000
END:STANDARD
END:VTIMEZONE
BEGIN:VEVENT
DTSTART;TZID=Asia/Krasnoyarsk:20150201T090000
DTEND;TZID=Asia/Krasnoyarsk:20150201T113000
DTSTAMP:20260421T212443
CREATED:20141219T100954Z
LAST-MODIFIED:20141219T100954Z
UID:2903-1422781200-1422790200@www.alfachriyah.org
SUMMARY:Maulid Agung Al Fachriyah & Haul Hb Novel Salim Jindan
DESCRIPTION:Maulid Agung Al Fachriyah & Haul Hb Novel Salim Jindan
URL:https://www.alfachriyah.org/event/maulid-agung-al-fachriyah-haul-hb-novel-salim-jindan/
LOCATION:Yayasan Al Fachriyah\, Jl. Prof. Dr. Hamka Kp. Gaga Masjid RT. 004/01 No.1 Larangan Selatan Kec. Larangan \, Tangerang\, Banten\, 15154\, Indonesia
CATEGORIES:Acara Tahunan Al Fachriyah
END:VEVENT
END:VCALENDAR