BEGIN:VCALENDAR
VERSION:2.0
PRODID:-//Yayasan Al-Fachriyah - ECPv5.16.4//NONSGML v1.0//EN
CALSCALE:GREGORIAN
METHOD:PUBLISH
X-WR-CALNAME:Yayasan Al-Fachriyah
X-ORIGINAL-URL:https://www.alfachriyah.org
X-WR-CALDESC:Events for Yayasan Al-Fachriyah
BEGIN:VTIMEZONE
TZID:Asia/Krasnoyarsk
BEGIN:STANDARD
TZOFFSETFROM:+0700
TZOFFSETTO:+0700
TZNAME:+07
DTSTART:20150101T000000
END:STANDARD
END:VTIMEZONE
BEGIN:VEVENT
DTSTART;TZID=Asia/Krasnoyarsk:20150116T041500
DTEND;TZID=Asia/Krasnoyarsk:20150116T090000
DTSTAMP:20260422T090141
CREATED:20141219T031408Z
LAST-MODIFIED:20141219T031437Z
UID:2865-1421381700-1421398800@www.alfachriyah.org
SUMMARY:Maulid Agung  Al Afaf Al Habib Ali bin Abdurahman As Seggaf
DESCRIPTION:Maulid Agung Al Habib Ali bin Abdurahman As Seggaf ( Sholat Subuh Berjamaah)
URL:https://www.alfachriyah.org/event/maulid-agung-al-habib-ali-bin-abdurahman-as-seggaf/
LOCATION:MT Al Afaf Hb Ali AsSeggaf\, Jln.Tebet utara lll B No 6-8-10 Rt.003 Rw.01 Tebet Timur.Tebet\,Jakarta Selatan\, Jakarta Selatan\, Jakarta Selatan\, Indonesia
CATEGORIES:Maulid Agung Tahunan
END:VEVENT
END:VCALENDAR