BEGIN:VCALENDAR
VERSION:2.0
PRODID:-//Yayasan Al-Fachriyah - ECPv5.16.4//NONSGML v1.0//EN
CALSCALE:GREGORIAN
METHOD:PUBLISH
X-WR-CALNAME:Yayasan Al-Fachriyah
X-ORIGINAL-URL:https://www.alfachriyah.org
X-WR-CALDESC:Events for Yayasan Al-Fachriyah
BEGIN:VTIMEZONE
TZID:Asia/Krasnoyarsk
BEGIN:STANDARD
TZOFFSETFROM:+0700
TZOFFSETTO:+0700
TZNAME:+07
DTSTART:20150101T000000
END:STANDARD
END:VTIMEZONE
BEGIN:VEVENT
DTSTART;TZID=Asia/Krasnoyarsk:20150125T100000
DTEND;TZID=Asia/Krasnoyarsk:20150125T120000
DTSTAMP:20260422T091728
CREATED:20141219T100809Z
LAST-MODIFIED:20141219T100809Z
UID:2901-1422180000-1422187200@www.alfachriyah.org
SUMMARY:Maulid Agung & Haul Habib Umar bin Hud Al Attas Cipayung
DESCRIPTION:Maulid Agung & Haul Habib Umar bin Hud Al Attas Cipayung
URL:https://www.alfachriyah.org/event/maulid-agung-haul-habib-umar-bin-hud-al-attas-cipayung/
LOCATION:MT Habib Umar bin Hud Al Attas\, Jalan Raya Puncak Cipayung \, Bogor\, Jawa Barat\, Indonesia
CATEGORIES:Maulid Agung Tahunan
END:VEVENT
END:VCALENDAR