BEGIN:VCALENDAR
VERSION:2.0
PRODID:-//Yayasan Al-Fachriyah - ECPv5.16.4//NONSGML v1.0//EN
CALSCALE:GREGORIAN
METHOD:PUBLISH
X-WR-CALNAME:Yayasan Al-Fachriyah
X-ORIGINAL-URL:https://www.alfachriyah.org
X-WR-CALDESC:Events for Yayasan Al-Fachriyah
BEGIN:VTIMEZONE
TZID:Asia/Krasnoyarsk
BEGIN:STANDARD
TZOFFSETFROM:+0700
TZOFFSETTO:+0700
TZNAME:+07
DTSTART:20150101T000000
END:STANDARD
END:VTIMEZONE
BEGIN:VEVENT
DTSTART;TZID=Asia/Krasnoyarsk:20150207T190000
DTEND;TZID=Asia/Krasnoyarsk:20150207T220000
DTSTAMP:20260421T182625
CREATED:20141219T101424Z
LAST-MODIFIED:20141219T101424Z
UID:2904-1423335600-1423346400@www.alfachriyah.org
SUMMARY:Maulid Agung & Haul Hb Utsman bin Yahya
DESCRIPTION:Maulid Agung & Haul Hb Utsman bin Yahya
URL:https://www.alfachriyah.org/event/maulid-agung-haul-hb-utsman-bin-yahya/
LOCATION:Majlis Ad Dhiyaullami\, Jl. SMA 9 Halim Perdana Kusuma\, Jakarta Timur\, DKI Jakarta\, Indonesia
CATEGORIES:Maulid Agung Tahunan
END:VEVENT
END:VCALENDAR