BEGIN:VCALENDAR
VERSION:2.0
PRODID:-//Yayasan Al-Fachriyah - ECPv5.16.4//NONSGML v1.0//EN
CALSCALE:GREGORIAN
METHOD:PUBLISH
X-WR-CALNAME:Yayasan Al-Fachriyah
X-ORIGINAL-URL:https://www.alfachriyah.org
X-WR-CALDESC:Events for Yayasan Al-Fachriyah
BEGIN:VTIMEZONE
TZID:Asia/Krasnoyarsk
BEGIN:STANDARD
TZOFFSETFROM:+0700
TZOFFSETTO:+0700
TZNAME:+07
DTSTART:20150101T000000
END:STANDARD
END:VTIMEZONE
BEGIN:VEVENT
DTSTART;TZID=Asia/Krasnoyarsk:20150113T180000
DTEND;TZID=Asia/Krasnoyarsk:20150113T200000
DTSTAMP:20260421T211947
CREATED:20141219T013559Z
LAST-MODIFIED:20141219T013559Z
UID:2855-1421172000-1421179200@www.alfachriyah.org
SUMMARY:Maulid Agung Keramat Empang Bogor
DESCRIPTION:Maulid Agung Keramat Empang Bogor Komplek Masjid An Nur Al Habib Abdullah Bin Mukhsin Al Attas
URL:https://www.alfachriyah.org/event/maulid-agung-keramat-empang-bogor/
LOCATION:Kramat Empang\, Komplek Masjid An Nur Jl. Lolongok\, Bogor\, Jawa Barat\, Indonesia
CATEGORIES:Maulid Agung Tahunan
END:VEVENT
END:VCALENDAR