BEGIN:VCALENDAR
VERSION:2.0
PRODID:-//Yayasan Al-Fachriyah - ECPv5.16.4//NONSGML v1.0//EN
CALSCALE:GREGORIAN
METHOD:PUBLISH
X-WR-CALNAME:Yayasan Al-Fachriyah
X-ORIGINAL-URL:https://www.alfachriyah.org
X-WR-CALDESC:Events for Yayasan Al-Fachriyah
BEGIN:VTIMEZONE
TZID:Asia/Krasnoyarsk
BEGIN:STANDARD
TZOFFSETFROM:+0700
TZOFFSETTO:+0700
TZNAME:+07
DTSTART:20150101T000000
END:STANDARD
END:VTIMEZONE
BEGIN:VEVENT
DTSTART;TZID=Asia/Krasnoyarsk:20150130T080000
DTEND;TZID=Asia/Krasnoyarsk:20150130T110000
DTSTAMP:20260421T212301
CREATED:20141219T170718Z
LAST-MODIFIED:20141219T170718Z
UID:2968-1422604800-1422615600@www.alfachriyah.org
SUMMARY:Maulid Agung Khusus Perempuan di kediaman Ibu Ike
DESCRIPTION:Maulid Agung Khusus Perempuan di kediaman Ibu Ike
URL:https://www.alfachriyah.org/event/maulid-agung-khusus-perempuan-di-kediaman-ibu-ike/
LOCATION:Kediaman Ibu Ike\, Griya Agung Sentosa Blok C 2 No.17 Pintu 2 Bulog Jl. Raya Hankam Pondok Gede\, Bekasi\, Jawa Barat\, Indonesia
END:VEVENT
END:VCALENDAR