BEGIN:VCALENDAR
VERSION:2.0
PRODID:-//Yayasan Al-Fachriyah - ECPv5.16.4//NONSGML v1.0//EN
CALSCALE:GREGORIAN
METHOD:PUBLISH
X-WR-CALNAME:Yayasan Al-Fachriyah
X-ORIGINAL-URL:https://www.alfachriyah.org
X-WR-CALDESC:Events for Yayasan Al-Fachriyah
BEGIN:VTIMEZONE
TZID:Asia/Krasnoyarsk
BEGIN:STANDARD
TZOFFSETFROM:+0700
TZOFFSETTO:+0700
TZNAME:+07
DTSTART:20150101T000000
END:STANDARD
END:VTIMEZONE
BEGIN:VEVENT
DTSTART;TZID=Asia/Krasnoyarsk:20150128T130000
DTEND;TZID=Asia/Krasnoyarsk:20150128T150000
DTSTAMP:20260422T015608
CREATED:20141219T165704Z
LAST-MODIFIED:20141219T165704Z
UID:2964-1422450000-1422457200@www.alfachriyah.org
SUMMARY:Maulid Agung Khusus Perempuan kediaman Ibu Hj Dewi
DESCRIPTION:Maulid Agung Khusus Perempuan di kediaman Ibu Hj Dewi
URL:https://www.alfachriyah.org/event/maulid-agung-khusus-perempuan-kediaman-ibu-hj-dewi/
LOCATION:Kediaman Ibu Hj Dewi\, Jl Kayu Manis GG mabruk 2 Condet\, Jakarta Timur\, DKI Jakarta\, Indonesia
END:VEVENT
END:VCALENDAR