BEGIN:VCALENDAR
VERSION:2.0
PRODID:-//Yayasan Al-Fachriyah - ECPv5.16.4//NONSGML v1.0//EN
CALSCALE:GREGORIAN
METHOD:PUBLISH
X-WR-CALNAME:Yayasan Al-Fachriyah
X-ORIGINAL-URL:https://www.alfachriyah.org
X-WR-CALDESC:Events for Yayasan Al-Fachriyah
BEGIN:VTIMEZONE
TZID:Asia/Krasnoyarsk
BEGIN:STANDARD
TZOFFSETFROM:+0700
TZOFFSETTO:+0700
TZNAME:+07
DTSTART:20150101T000000
END:STANDARD
END:VTIMEZONE
BEGIN:VEVENT
DTSTART;TZID=Asia/Krasnoyarsk:20150128T080000
DTEND;TZID=Asia/Krasnoyarsk:20150128T100000
DTSTAMP:20260422T045716
CREATED:20141219T165357Z
LAST-MODIFIED:20141219T165357Z
UID:2962-1422432000-1422439200@www.alfachriyah.org
SUMMARY:Maulid Agung Khusus Perempuan Masjid Nurul Hikmah
DESCRIPTION:Maulid Agung Khusus Perempuan Masjid Nurul Hikmah
URL:https://www.alfachriyah.org/event/maulid-agung-khusus-perempuan-masjid-nurul-hikmah/
LOCATION:Masjid Nurul Hikmah\, Jl Bekasi Timur 4 Rt 11/07 Jati Negara Prumpung \, Jakarta Timur\, DKI Jakarta\, Indonesia
CATEGORIES:Maulid Agung Tahunan
END:VEVENT
END:VCALENDAR