BEGIN:VCALENDAR
VERSION:2.0
PRODID:-//Yayasan Al-Fachriyah - ECPv5.16.4//NONSGML v1.0//EN
CALSCALE:GREGORIAN
METHOD:PUBLISH
X-WR-CALNAME:Yayasan Al-Fachriyah
X-ORIGINAL-URL:https://www.alfachriyah.org
X-WR-CALDESC:Events for Yayasan Al-Fachriyah
BEGIN:VTIMEZONE
TZID:Asia/Krasnoyarsk
BEGIN:STANDARD
TZOFFSETFROM:+0700
TZOFFSETTO:+0700
TZNAME:+07
DTSTART:20150101T000000
END:STANDARD
END:VTIMEZONE
BEGIN:VEVENT
DTSTART;TZID=Asia/Krasnoyarsk:20150222T080000
DTEND;TZID=Asia/Krasnoyarsk:20150222T110000
DTSTAMP:20260421T221709
CREATED:20141219T173241Z
LAST-MODIFIED:20141219T173241Z
UID:2980-1424592000-1424602800@www.alfachriyah.org
SUMMARY:Maulid Agung Khusus Perempuan MT. Ar Raudhoh Ciledug ( Samping Al Fachriyah )
DESCRIPTION:Maulid Agung Khusus Perempuan MT. Ar Raudhoh Pimp. Ustz. Fauziah As-Seggaf – Ciledug ( Samping Al Fachriyah )
URL:https://www.alfachriyah.org/event/maulid-agung-khusus-perempuan-mt-ar-raudhoh-ciledug-samping-al-fachriyah/
LOCATION:Yayasan Al Fachriyah\, Jl. Prof. Dr. Hamka Kp. Gaga Masjid RT. 004/01 No.1 Larangan Selatan Kec. Larangan \, Tangerang\, Banten\, 15154\, Indonesia
CATEGORIES:Maulid Agung Tahunan
END:VEVENT
END:VCALENDAR