BEGIN:VCALENDAR
VERSION:2.0
PRODID:-//Yayasan Al-Fachriyah - ECPv5.16.4//NONSGML v1.0//EN
CALSCALE:GREGORIAN
METHOD:PUBLISH
X-WR-CALNAME:Yayasan Al-Fachriyah
X-ORIGINAL-URL:https://www.alfachriyah.org
X-WR-CALDESC:Events for Yayasan Al-Fachriyah
BEGIN:VTIMEZONE
TZID:Asia/Krasnoyarsk
BEGIN:STANDARD
TZOFFSETFROM:+0700
TZOFFSETTO:+0700
TZNAME:+07
DTSTART:20150101T000000
END:STANDARD
END:VTIMEZONE
BEGIN:VEVENT
DTSTART;TZID=Asia/Krasnoyarsk:20150124T130000
DTEND;TZID=Asia/Krasnoyarsk:20150124T150000
DTSTAMP:20260422T140141
CREATED:20141219T163917Z
LAST-MODIFIED:20141219T163917Z
UID:2955-1422104400-1422111600@www.alfachriyah.org
SUMMARY:Maulid Agung Khusus Perempuan MT W.I.A Pimp Ibu nadra Alhaddar
DESCRIPTION:Maulid Agung MT W.I.A Pimp Ibu nadra Alhaddar
URL:https://www.alfachriyah.org/event/maulid-agung-khusus-perempuan-mt-w-i-a-pimp-ibu-nadra-alhaddar/
LOCATION:MT W.I.A Pimp Ibu nadra Alhaddar\,  Komplek Siaga Baru Blok C no 10\, Jakarta Selatan\, DKI Jakarta\, Indonesia
CATEGORIES:Maulid Agung Tahunan
END:VEVENT
END:VCALENDAR