BEGIN:VCALENDAR
VERSION:2.0
PRODID:-//Yayasan Al-Fachriyah - ECPv5.16.4//NONSGML v1.0//EN
CALSCALE:GREGORIAN
METHOD:PUBLISH
X-WR-CALNAME:Yayasan Al-Fachriyah
X-ORIGINAL-URL:https://www.alfachriyah.org
X-WR-CALDESC:Events for Yayasan Al-Fachriyah
BEGIN:VTIMEZONE
TZID:Asia/Krasnoyarsk
BEGIN:STANDARD
TZOFFSETFROM:+0700
TZOFFSETTO:+0700
TZNAME:+07
DTSTART:20150101T000000
END:STANDARD
END:VTIMEZONE
BEGIN:VEVENT
DTSTART;TZID=Asia/Krasnoyarsk:20150125T080000
DTEND;TZID=Asia/Krasnoyarsk:20150125T110000
DTSTAMP:20260422T110113
CREATED:20141219T164245Z
LAST-MODIFIED:20141219T164245Z
UID:2957-1422172800-1422183600@www.alfachriyah.org
SUMMARY:Maulid Agung Khusus Perempuan Mushollah Alikhwan
DESCRIPTION:Maulid Agung Khusus Perempuan Mushollah Alikhwan pimp.Ustz Halimah U. Alaydrus
URL:https://www.alfachriyah.org/event/maulid-agung-khusus-perempuan-mushollah-alikhwan/
LOCATION:Mushollah Alikhwan\,  Tebet \, Jakarta Selatan\, DKI Jakarta\, Indonesia
CATEGORIES:Maulid Agung Tahunan
END:VEVENT
END:VCALENDAR