BEGIN:VCALENDAR
VERSION:2.0
PRODID:-//Yayasan Al-Fachriyah - ECPv5.16.4//NONSGML v1.0//EN
CALSCALE:GREGORIAN
METHOD:PUBLISH
X-WR-CALNAME:Yayasan Al-Fachriyah
X-ORIGINAL-URL:https://www.alfachriyah.org
X-WR-CALDESC:Events for Yayasan Al-Fachriyah
BEGIN:VTIMEZONE
TZID:Asia/Krasnoyarsk
BEGIN:STANDARD
TZOFFSETFROM:+0700
TZOFFSETTO:+0700
TZNAME:+07
DTSTART:20150101T000000
END:STANDARD
END:VTIMEZONE
BEGIN:VEVENT
DTSTART;TZID=Asia/Krasnoyarsk:20150108T200000
DTEND;TZID=Asia/Krasnoyarsk:20150108T220000
DTSTAMP:20260422T235135
CREATED:20141219T005557Z
LAST-MODIFIED:20141219T005557Z
UID:2845-1420747200-1420754400@www.alfachriyah.org
SUMMARY:Maulid Agung Majelis Al Abidin  Hb Abdullah bin Umar Banahsan
DESCRIPTION:Maulid Agung Majelis Al Abidin  Al Habib Abdullah bin Umar Banahsan
URL:https://www.alfachriyah.org/event/maulid-agung-majelis-al-abidin-hb-abdullah-bin-umar-banahsan/
LOCATION:Majelis Al Abidin\, Pondok Bambu\, Jakarta Timur\, Jakarta Timur\, Indonesia
CATEGORIES:Maulid Agung Tahunan
END:VEVENT
END:VCALENDAR