BEGIN:VCALENDAR
VERSION:2.0
PRODID:-//Yayasan Al-Fachriyah - ECPv5.16.4//NONSGML v1.0//EN
CALSCALE:GREGORIAN
METHOD:PUBLISH
X-WR-CALNAME:Yayasan Al-Fachriyah
X-ORIGINAL-URL:https://www.alfachriyah.org
X-WR-CALDESC:Events for Yayasan Al-Fachriyah
BEGIN:VTIMEZONE
TZID:Asia/Krasnoyarsk
BEGIN:STANDARD
TZOFFSETFROM:+0700
TZOFFSETTO:+0700
TZNAME:+07
DTSTART:20150101T000000
END:STANDARD
END:VTIMEZONE
BEGIN:VEVENT
DTSTART;TZID=Asia/Krasnoyarsk:20150115T080000
DTEND;TZID=Asia/Krasnoyarsk:20150115T110000
DTSTAMP:20260422T030531
CREATED:20141219T154859Z
LAST-MODIFIED:20141219T154859Z
UID:2942-1421308800-1421319600@www.alfachriyah.org
SUMMARY:Maulid Agung MT Ahbabuzzahro ( Khusus Perempuan)
DESCRIPTION:Maulid Agung MT Ahbabuzzahro Ibu Ida Alaydrus
URL:https://www.alfachriyah.org/event/maulid-agung-mt-ahbabuzzahro-khusus-perempuan/
LOCATION:MT Ahbabuzzahro\, Jl. Batu Alam Jaya no 22 condet\, Jakata Timur\, DKI Jakarta\, Indonesia
CATEGORIES:Maulid Agung Tahunan
END:VEVENT
END:VCALENDAR