BEGIN:VCALENDAR
VERSION:2.0
PRODID:-//Yayasan Al-Fachriyah - ECPv5.16.4//NONSGML v1.0//EN
CALSCALE:GREGORIAN
METHOD:PUBLISH
X-WR-CALNAME:Yayasan Al-Fachriyah
X-ORIGINAL-URL:https://www.alfachriyah.org
X-WR-CALDESC:Events for Yayasan Al-Fachriyah
BEGIN:VTIMEZONE
TZID:Asia/Krasnoyarsk
BEGIN:STANDARD
TZOFFSETFROM:+0700
TZOFFSETTO:+0700
TZNAME:+07
DTSTART:20150101T000000
END:STANDARD
END:VTIMEZONE
BEGIN:VEVENT
DTSTART;TZID=Asia/Krasnoyarsk:20150116T070000
DTEND;TZID=Asia/Krasnoyarsk:20150116T100000
DTSTAMP:20260422T103553
CREATED:20141219T073806Z
LAST-MODIFIED:20141219T073806Z
UID:2878-1421391600-1421402400@www.alfachriyah.org
SUMMARY:Maulid Agung MT Habib Ali Habsyi Kwitang ( Khsusus Perempuan)
DESCRIPTION:Maulid Agung MT Habib Ali Habsyi Kwitang ( Khsusus Perempuan)
URL:https://www.alfachriyah.org/event/maulid-agung-mt-habib-ali-habsyi-kwitang-khsusus-perempuan/
LOCATION:Kwitang\, Jalan Kembang 4 Kwitang Jakarta\, Jakarta Pusat\, DKI Jakarta\, 10420\, Indonesia
CATEGORIES:Maulid Agung Tahunan
END:VEVENT
END:VCALENDAR