BEGIN:VCALENDAR
VERSION:2.0
PRODID:-//Yayasan Al-Fachriyah - ECPv5.16.4//NONSGML v1.0//EN
CALSCALE:GREGORIAN
METHOD:PUBLISH
X-WR-CALNAME:Yayasan Al-Fachriyah
X-ORIGINAL-URL:https://www.alfachriyah.org
X-WR-CALDESC:Events for Yayasan Al-Fachriyah
BEGIN:VTIMEZONE
TZID:Asia/Krasnoyarsk
BEGIN:STANDARD
TZOFFSETFROM:+0700
TZOFFSETTO:+0700
TZNAME:+07
DTSTART:20150101T000000
END:STANDARD
END:VTIMEZONE
BEGIN:VEVENT
DTSTART;TZID=Asia/Krasnoyarsk:20150123T080000
DTEND;TZID=Asia/Krasnoyarsk:20150123T110000
DTSTAMP:20260422T170446
CREATED:20141219T163456Z
LAST-MODIFIED:20141219T163512Z
UID:2953-1422000000-1422010800@www.alfachriyah.org
SUMMARY:Maulid Agung MT Hb Salim Bin Toha Alhaddad Khusus Perempuan
DESCRIPTION:Maulid Agung MT Hb Salim Bin Toha Alhaddad Jl. Damai Ps Minggu (ibu Nco)
URL:https://www.alfachriyah.org/event/maulid-agung-mt-hb-salim-bin-toha-alhaddad-khusus-perempuan/
LOCATION:MT Hb Salim Bin Toha Alhaddad\, Jl. Damai no.3 Rt. 10/05 Kel. Pejaten Timur Kec. Pasar Minggu\, Jakarta Selatan\, DKI Jakarta\, Indonesia
CATEGORIES:Maulid Agung Tahunan
END:VEVENT
END:VCALENDAR