BEGIN:VCALENDAR
VERSION:2.0
PRODID:-//Yayasan Al-Fachriyah - ECPv5.16.4//NONSGML v1.0//EN
CALSCALE:GREGORIAN
METHOD:PUBLISH
X-WR-CALNAME:Yayasan Al-Fachriyah
X-ORIGINAL-URL:https://www.alfachriyah.org
X-WR-CALDESC:Events for Yayasan Al-Fachriyah
BEGIN:VTIMEZONE
TZID:Asia/Krasnoyarsk
BEGIN:STANDARD
TZOFFSETFROM:+0800
TZOFFSETTO:+0700
TZNAME:+07
DTSTART:20141025T180000
END:STANDARD
END:VTIMEZONE
BEGIN:VEVENT
DTSTART;TZID=Asia/Krasnoyarsk:20141228T080000
DTEND;TZID=Asia/Krasnoyarsk:20141228T110000
DTSTAMP:20260423T025700
CREATED:20141219T145237Z
LAST-MODIFIED:20141219T145237Z
UID:2919-1419753600-1419764400@www.alfachriyah.org
SUMMARY:Maulid Agung MT Mahabbah Albatuul  (Khusus Perempuan)
DESCRIPTION:MT Mahabbah Albatuul Ibu Sy.Ida Alhabsyi & Ustz. Amiroh Jindan\,
URL:https://www.alfachriyah.org/event/maulid-agung-mt-mahabbah-albatuul-khusus-perempuan/
LOCATION:MT Mahabbah Albatuul\,  Jl. Simprug Golf 9 / KAV 133\, Jakarta Selatan\, DKI \, Indonesia
CATEGORIES:Maulid Agung Tahunan
END:VEVENT
END:VCALENDAR