BEGIN:VCALENDAR
VERSION:2.0
PRODID:-//Yayasan Al-Fachriyah - ECPv5.16.4//NONSGML v1.0//EN
CALSCALE:GREGORIAN
METHOD:PUBLISH
X-WR-CALNAME:Yayasan Al-Fachriyah
X-ORIGINAL-URL:https://www.alfachriyah.org
X-WR-CALDESC:Events for Yayasan Al-Fachriyah
BEGIN:VTIMEZONE
TZID:Asia/Krasnoyarsk
BEGIN:STANDARD
TZOFFSETFROM:+0800
TZOFFSETTO:+0700
TZNAME:+07
DTSTART:20141025T180000
END:STANDARD
END:VTIMEZONE
BEGIN:VEVENT
DTSTART;TZID=Asia/Krasnoyarsk:20141224T080000
DTEND;TZID=Asia/Krasnoyarsk:20141224T100000
DTSTAMP:20260423T044528
CREATED:20141219T142020Z
LAST-MODIFIED:20141219T142020Z
UID:2908-1419408000-1419415200@www.alfachriyah.org
SUMMARY:Maulid Agung MT Roudhatul Muta'alimat ( Khusus Perempuan )
DESCRIPTION:Maulid Agung Khusus Perempuan MT Roudhatul Muta’alimat Jl. Taman Safari Kp. Joglo\, Cisarua – Puncak
URL:https://www.alfachriyah.org/event/maulid-agung-mt-roudhatul-mutaalimat-khusus-perempuan/
LOCATION:MT Roudhatul Muta’alimat\, Jl. Taman Safari Kp. Joglo\, Cisarua - Puncak\, Bogor\, Jawa Barat\, Indonesia
CATEGORIES:Maulid Agung Tahunan
END:VEVENT
END:VCALENDAR