BEGIN:VCALENDAR
VERSION:2.0
PRODID:-//Yayasan Al-Fachriyah - ECPv5.16.4//NONSGML v1.0//EN
CALSCALE:GREGORIAN
METHOD:PUBLISH
X-WR-CALNAME:Yayasan Al-Fachriyah
X-ORIGINAL-URL:https://www.alfachriyah.org
X-WR-CALDESC:Events for Yayasan Al-Fachriyah
BEGIN:VTIMEZONE
TZID:Asia/Krasnoyarsk
BEGIN:STANDARD
TZOFFSETFROM:+0700
TZOFFSETTO:+0700
TZNAME:+07
DTSTART:20150101T000000
END:STANDARD
END:VTIMEZONE
BEGIN:VEVENT
DTSTART;TZID=Asia/Krasnoyarsk:20150115T090000
DTEND;TZID=Asia/Krasnoyarsk:20150115T110000
DTSTAMP:20260422T042830
CREATED:20141219T024726Z
LAST-MODIFIED:20141219T024726Z
UID:2860-1421312400-1421319600@www.alfachriyah.org
SUMMARY:Maulid Agung Ponpes Al Haromain Hb Hamid bin Abdullah Al Kaff
DESCRIPTION:Maulid Agung Ponpes Al Haromain Hb Hamid bin Abdullah Al Kaff
URL:https://www.alfachriyah.org/event/maulid-agung-ponpes-al-haromain-hb-hamid-bin-abdullah-al-kaff/
LOCATION:Ponpes Al Haromain\, Jl. Ganceng Pondok Rangon Kranggan\, Jakarta Timur\, Jakarta Timur\, Indonesia
CATEGORIES:Maulid Agung Tahunan
END:VEVENT
END:VCALENDAR