BEGIN:VCALENDAR
VERSION:2.0
PRODID:-//Yayasan Al-Fachriyah - ECPv5.16.4//NONSGML v1.0//EN
CALSCALE:GREGORIAN
METHOD:PUBLISH
X-WR-CALNAME:Yayasan Al-Fachriyah
X-ORIGINAL-URL:https://www.alfachriyah.org
X-WR-CALDESC:Events for Yayasan Al-Fachriyah
BEGIN:VTIMEZONE
TZID:Asia/Krasnoyarsk
BEGIN:STANDARD
TZOFFSETFROM:+0700
TZOFFSETTO:+0700
TZNAME:+07
DTSTART:20150101T000000
END:STANDARD
END:VTIMEZONE
BEGIN:VEVENT
DTSTART;TZID=Asia/Krasnoyarsk:20150211T043000
DTEND;TZID=Asia/Krasnoyarsk:20150211T090000
DTSTAMP:20260421T154227
CREATED:20141219T172633Z
LAST-MODIFIED:20141219T172633Z
UID:2977-1423629000-1423645200@www.alfachriyah.org
SUMMARY:Maulid Akbar Al Habib Ali bin Muhammad Al Habsyi - Solo
DESCRIPTION:Maulid Akbar Al Habib Ali bin Muhammad Al Habsyi – Solo
URL:https://www.alfachriyah.org/event/maulid-akbar-al-habib-ali-bin-muhammad-al-habsyi-solo/
LOCATION:Solo\, Jalan Kapten Mulyadi\, Kelurahan Pasar Kliwon\, Kecamatan Pasar Kliwon\, Solo (Surakarta)\, surakarta\, Jawa Tengah\, Indonesia
END:VEVENT
END:VCALENDAR