BEGIN:VCALENDAR
VERSION:2.0
PRODID:-//Yayasan Al-Fachriyah - ECPv5.16.4//NONSGML v1.0//EN
CALSCALE:GREGORIAN
METHOD:PUBLISH
X-WR-CALNAME:Yayasan Al-Fachriyah
X-ORIGINAL-URL:https://www.alfachriyah.org
X-WR-CALDESC:Events for Yayasan Al-Fachriyah
BEGIN:VTIMEZONE
TZID:Asia/Krasnoyarsk
BEGIN:STANDARD
TZOFFSETFROM:+0800
TZOFFSETTO:+0700
TZNAME:+07
DTSTART:20141025T180000
END:STANDARD
END:VTIMEZONE
BEGIN:VEVENT
DTSTART;TZID=Asia/Krasnoyarsk:20140909T200000
DTEND;TZID=Asia/Krasnoyarsk:20140909T213000
DTSTAMP:20260422T020311
CREATED:20140813T070456Z
LAST-MODIFIED:20140813T070456Z
UID:1729-1410292800-1410298200@www.alfachriyah.org
SUMMARY:Pengajian Rutin Habib Ahmad di Alfachriyah
DESCRIPTION:Kajian kitab Risalah Muawanah oleh Habib Ahmad bin Novel bin Jindan untuk umum diyayasan Alfachriyah
URL:https://www.alfachriyah.org/event/pengajian-rutin-habib-ahmad-di-alfachriyah/
CATEGORIES:Pengajian Rutin
ATTACH;FMTTYPE=image/jpeg:https://www.alfachriyah.org/wp-content/uploads/2014/08/IMG_1492.jpg
END:VEVENT
END:VCALENDAR