BEGIN:VCALENDAR
VERSION:2.0
PRODID:-//Yayasan Al-Fachriyah - ECPv5.16.4//NONSGML v1.0//EN
CALSCALE:GREGORIAN
METHOD:PUBLISH
X-WR-CALNAME:Yayasan Al-Fachriyah
X-ORIGINAL-URL:https://www.alfachriyah.org
X-WR-CALDESC:Events for Yayasan Al-Fachriyah
BEGIN:VTIMEZONE
TZID:Asia/Krasnoyarsk
BEGIN:STANDARD
TZOFFSETFROM:+0800
TZOFFSETTO:+0700
TZNAME:+07
DTSTART:20141025T180000
END:STANDARD
END:VTIMEZONE
BEGIN:VEVENT
DTSTART;TZID=Asia/Krasnoyarsk:20140924T190000
DTEND;TZID=Asia/Krasnoyarsk:20140924T203000
DTSTAMP:20260422T155728
CREATED:20140813T083059Z
LAST-MODIFIED:20140813T090951Z
UID:1742-1411585200-1411590600@www.alfachriyah.org
SUMMARY:Pengajian Rutin Habib Ahmad di Masjid As Sairiyah
DESCRIPTION:Pengajin Rutin Akhir bulan Habib Ahmad Jindan di Masjid As Sairiyah Jl. Japos Pondok Aren untuk Laki dan Perempuan
URL:https://www.alfachriyah.org/event/pengajian-rutin-habib-ahmad-di-masjid-as-sairiyah/
CATEGORIES:Pengajian Rutin
ATTACH;FMTTYPE=image/jpeg:https://www.alfachriyah.org/wp-content/uploads/2014/06/Habib-Ahmad.jpg
END:VEVENT
END:VCALENDAR