BEGIN:VCALENDAR
VERSION:2.0
PRODID:-//Yayasan Al-Fachriyah - ECPv5.16.4//NONSGML v1.0//EN
CALSCALE:GREGORIAN
METHOD:PUBLISH
X-WR-CALNAME:Yayasan Al-Fachriyah
X-ORIGINAL-URL:https://www.alfachriyah.org
X-WR-CALDESC:Events for Yayasan Al-Fachriyah
BEGIN:VTIMEZONE
TZID:Asia/Krasnoyarsk
BEGIN:STANDARD
TZOFFSETFROM:+0800
TZOFFSETTO:+0700
TZNAME:+07
DTSTART:20141025T180000
END:STANDARD
END:VTIMEZONE
BEGIN:VEVENT
DTSTART;TZID=Asia/Krasnoyarsk:20141218T180000
DTEND;TZID=Asia/Krasnoyarsk:20141218T193000
DTSTAMP:20260423T030804
CREATED:20141128T222516Z
LAST-MODIFIED:20141128T222516Z
UID:2715-1418925600-1418931000@www.alfachriyah.org
SUMMARY:Pengajian Rutin Malam Jum'at Al Fachriyah
DESCRIPTION:Pembacaan Maulid Nabi SAW dan Kajian Kitab Nasoih Diniyah oleh Al Habib Jindan bin Novel bin Jindan – Acara Untuk Laki-laki dan Perempuan
URL:https://www.alfachriyah.org/event/pengajian-rutin-malam-jumat-al-fachriyah-3/
LOCATION:Yayasan Al Fachriyah\, Jl. Prof. Dr. Hamka Kp. Gaga Masjid RT. 004/01 No.1 Larangan Selatan Kec. Larangan \, Tangerang\, Banten\, 15154\, Indonesia
CATEGORIES:Pengajian Rutin
END:VEVENT
END:VCALENDAR