BEGIN:VCALENDAR
VERSION:2.0
PRODID:-//Yayasan Al-Fachriyah - ECPv5.16.4//NONSGML v1.0//EN
CALSCALE:GREGORIAN
METHOD:PUBLISH
X-WR-CALNAME:Yayasan Al-Fachriyah
X-ORIGINAL-URL:https://www.alfachriyah.org
X-WR-CALDESC:Events for Yayasan Al-Fachriyah
BEGIN:VTIMEZONE
TZID:Asia/Krasnoyarsk
BEGIN:STANDARD
TZOFFSETFROM:+0800
TZOFFSETTO:+0700
TZNAME:+07
DTSTART:20141025T180000
END:STANDARD
END:VTIMEZONE
BEGIN:VEVENT
DTSTART;TZID=Asia/Krasnoyarsk:20140904T180000
DTEND;TZID=Asia/Krasnoyarsk:20140904T200000
DTSTAMP:20260421T211952
CREATED:20140802T132259Z
LAST-MODIFIED:20140813T082210Z
UID:1682-1409853600-1409860800@www.alfachriyah.org
SUMMARY:Pembukaan Pengajian Umum Al Fachriyah
DESCRIPTION:Pembacaan maulid Ad Dibai dilanjutkan dengan ceramah Agama
URL:https://www.alfachriyah.org/event/pengajian-umum-al-fachriyah/
LOCATION:Yayasan Al Fachriyah\, Jl. Prof. Dr. Hamka Kp. Gaga Masjid RT. 004/01 No.1 Larangan Selatan Kec. Larangan \, Tangerang\, Banten\, 15154\, Indonesia
CATEGORIES:Pengajian Rutin
ATTACH;FMTTYPE=image/jpeg:https://www.alfachriyah.org/wp-content/uploads/2014/07/2014-Peringatan-Isra-Miraj-dan-Khataman-Sahih-Bukhari-09.jpg
END:VEVENT
END:VCALENDAR