BEGIN:VCALENDAR
VERSION:2.0
PRODID:-//Yayasan Al-Fachriyah - ECPv5.16.4//NONSGML v1.0//EN
CALSCALE:GREGORIAN
METHOD:PUBLISH
X-WR-CALNAME:Yayasan Al-Fachriyah
X-ORIGINAL-URL:https://www.alfachriyah.org
X-WR-CALDESC:Events for Yayasan Al-Fachriyah
BEGIN:VTIMEZONE
TZID:Asia/Krasnoyarsk
BEGIN:STANDARD
TZOFFSETFROM:+0800
TZOFFSETTO:+0700
TZNAME:+07
DTSTART:20141025T180000
END:STANDARD
END:VTIMEZONE
BEGIN:VEVENT
DTSTART;TZID=Asia/Krasnoyarsk:20140620T020000
DTEND;TZID=Asia/Krasnoyarsk:20140620T040000
DTSTAMP:20260422T055244
CREATED:20140625T111631Z
LAST-MODIFIED:20140625T171602Z
UID:871-1403229600-1403236800@www.alfachriyah.org
SUMMARY:Silaturahmi Akbar di Yayasan Al fachriyah
DESCRIPTION:Acara Silaturahmi Akbar dalam rangka Milad majelis Silaturahim ke-6 dan Menyambut kedatangan bulan suci Ramadan bersama habib Syeikh bin Abdul Qodir As Seggaf – Solo
URL:https://www.alfachriyah.org/event/silaturahmi-akbar-di-yayasan-al-fachriyah/
LOCATION:Yayasan Al Fachriyah\, Jl. Prof. Dr. Hamka Kp. Gaga Masjid RT. 004/01 No.1 Larangan Selatan Kec. Larangan \, Tangerang\, Banten\, 15154\, Indonesia
CATEGORIES:Pengajian Rutin
ATTACH;FMTTYPE=image/jpeg:https://www.alfachriyah.org/wp-content/uploads/2014/06/DSC_1925.jpg
END:VEVENT
END:VCALENDAR