BEGIN:VCALENDAR
VERSION:2.0
PRODID:-//Yayasan Al-Fachriyah - ECPv5.16.4//NONSGML v1.0//EN
CALSCALE:GREGORIAN
METHOD:PUBLISH
X-WR-CALNAME:Yayasan Al-Fachriyah
X-ORIGINAL-URL:https://www.alfachriyah.org
X-WR-CALDESC:Events for Yayasan Al-Fachriyah
BEGIN:VTIMEZONE
TZID:Asia/Krasnoyarsk
BEGIN:STANDARD
TZOFFSETFROM:+0800
TZOFFSETTO:+0700
TZNAME:+07
DTSTART:20141025T180000
END:STANDARD
END:VTIMEZONE
BEGIN:VEVENT
DTSTART;TZID=Asia/Krasnoyarsk:20140709T191000
DTEND;TZID=Asia/Krasnoyarsk:20140709T230000
DTSTAMP:20260422T031216
CREATED:20140625T214538Z
LAST-MODIFIED:20140628T160251Z
UID:932-1404933000-1404946800@www.alfachriyah.org
SUMMARY:Tarawih & Khotm Al Qur'an serta Kajian Ramadhan di Al Fachriyah
DESCRIPTION:Shalat Isya\, Tarawih beserta khataman Al Qur’an dalam solat taraweh dan Qoshoid Romadhaniyah serta Kajian Kitab Mawaid Ramadhaniyah Habib Ali Al habsyi oleh Habib Jindan bin Novel bin Jindan\, dan dilanjutkan Halaqoh serta Pengajian bersama Habib Ahmad bin Novel bn Jindan kitab Sirah
URL:https://www.alfachriyah.org/event/tarawih-kajian-ramadhan-di-al-fachriyah-13/
LOCATION:Yayasan Al Fachriyah\, Jl. Prof. Dr. Hamka Kp. Gaga Masjid RT. 004/01 No.1 Larangan Selatan Kec. Larangan \, Tangerang\, Banten\, 15154\, Indonesia
CATEGORIES:Tarawih di Alfachriyah
ATTACH;FMTTYPE=image/jpeg:https://www.alfachriyah.org/wp-content/uploads/2014/06/shalat_tarawih.jpg
END:VEVENT
END:VCALENDAR