BEGIN:VCALENDAR
VERSION:2.0
PRODID:-//Yayasan Al-Fachriyah - ECPv5.16.4//NONSGML v1.0//EN
CALSCALE:GREGORIAN
METHOD:PUBLISH
X-WR-CALNAME:Yayasan Al-Fachriyah
X-ORIGINAL-URL:https://www.alfachriyah.org
X-WR-CALDESC:Events for Yayasan Al-Fachriyah
BEGIN:VTIMEZONE
TZID:Asia/Krasnoyarsk
BEGIN:STANDARD
TZOFFSETFROM:+0800
TZOFFSETTO:+0700
TZNAME:+07
DTSTART:20141025T180000
END:STANDARD
END:VTIMEZONE
BEGIN:VEVENT
DTSTART;TZID=Asia/Krasnoyarsk:20140710T191000
DTEND;TZID=Asia/Krasnoyarsk:20140710T220000
DTSTAMP:20260422T042854
CREATED:20140625T222317Z
LAST-MODIFIED:20140705T041224Z
UID:934-1405019400-1405029600@www.alfachriyah.org
SUMMARY:Tarawih & Khotm Qur'an di Masjid Al Munawar
DESCRIPTION:Acara Khatam Al qur’an dalam Solat Taraweh di Masjid Jami Al Munawar \nJl. Raya Pasar Minggu\, Pancoran \nJakarta Selatan
URL:https://www.alfachriyah.org/event/tarawih-khotm-quran-di-masjid-al-munawar/
LOCATION:Pancoran\, Jl. Pancoran Barat (Perdatam)\, Jakarta Selatan\, DKI Jakarta\, 12780\, Indonesia
CATEGORIES:Tarawih Keliling
ATTACH;FMTTYPE=image/jpeg:https://www.alfachriyah.org/wp-content/uploads/2014/06/msjid-almuawar.jpg
END:VEVENT
END:VCALENDAR