BEGIN:VCALENDAR
VERSION:2.0
PRODID:-//Yayasan Al-Fachriyah - ECPv5.16.4//NONSGML v1.0//EN
CALSCALE:GREGORIAN
METHOD:PUBLISH
X-WR-CALNAME:Yayasan Al-Fachriyah
X-ORIGINAL-URL:https://www.alfachriyah.org
X-WR-CALDESC:Events for Yayasan Al-Fachriyah
BEGIN:VTIMEZONE
TZID:Asia/Krasnoyarsk
BEGIN:STANDARD
TZOFFSETFROM:+0800
TZOFFSETTO:+0700
TZNAME:+07
DTSTART:20141025T180000
END:STANDARD
END:VTIMEZONE
BEGIN:VEVENT
DTSTART;TZID=Asia/Krasnoyarsk:20140719T191500
DTEND;TZID=Asia/Krasnoyarsk:20140719T220000
DTSTAMP:20260422T014318
CREATED:20140626T033753Z
LAST-MODIFIED:20140626T033753Z
UID:962-1405797300-1405807200@www.alfachriyah.org
SUMMARY:Tarawih & Khotm Qur'an di Masjid Kramat Habib Kuncung
DESCRIPTION:Acara Khatam Al qur’an Dalam Solat Taraweh di Masjid Makam Kramat Habib Ahmad bin Alwi Al Haddad Habib Kuncung – Kalibata
URL:https://www.alfachriyah.org/event/tarawih-khotm-quran-di-masjid-kramat-habib-kuncung/
LOCATION:Masjid Kramat Habib Kuncung\, Jl. Rawajati Timur 2  Pacoran Kalibata \, Jakarta Selatan\, DKI Jakarta\, Indonesia
CATEGORIES:Tarawih Keliling
ATTACH;FMTTYPE=image/jpeg:https://www.alfachriyah.org/wp-content/uploads/2014/06/hb-kuncung.jpg
END:VEVENT
END:VCALENDAR